BEGIN:VCALENDAR
VERSION:2.0
PRODID:-//demosphere.net//NONSGML kigkonsult.se iCalcreator 2.22.1//
METHOD:REQUEST
X-WR-TIMEZONE:Europe/Paris
BEGIN:VEVENT
UID:https://liege.demosphere.net/rv/12465
DTSTAMP:20260411T140000Z
DESCRIPTION:plus d'infos sur : https://liege.demosphere.net/rv/12465
DTSTART:20260411T140000Z
DTEND:20260411T150000Z
GEO:+50.635419;+5.56278
LOCATION:Liège\, \nSerres du jardin botanique \nRue Fusch\, 3 \n4000 Liège
SUMMARY:Découverte du jeu : la Marmite sur la Sécurité Sociale de l'Aliment
 ation (SSA)
URL:https://liege.demosphere.net/rv/12465
END:VEVENT
END:VCALENDAR
