BEGIN:VCALENDAR
VERSION:2.0
PRODID:-//demosphere.net//NONSGML kigkonsult.se iCalcreator 2.22.1//
METHOD:REQUEST
X-WR-TIMEZONE:Europe/Paris
BEGIN:VEVENT
UID:https://liege.demosphere.net/rv/12596
DTSTAMP:20260425T100000Z
DESCRIPTION:plus d'infos sur : https://liege.demosphere.net/rv/12596
DTSTART:20260425T100000Z
DTEND:20260425T110000Z
GEO:+50.630673;+5.558477
LOCATION:Liège\, \nCercle du Laveu \nRue des wallons 45 \n4000 Liège
SUMMARY:Autistes Associé·es Espace libre
URL:https://liege.demosphere.net/rv/12596
END:VEVENT
END:VCALENDAR
