BEGIN:VCALENDAR
VERSION:2.0
PRODID:-//demosphere.net//NONSGML kigkonsult.se iCalcreator 2.22.1//
METHOD:REQUEST
X-WR-TIMEZONE:Europe/Paris
BEGIN:VEVENT
UID:https://liege.demosphere.net/rv/12664
DTSTAMP:20260426T120000Z
DESCRIPTION:plus d'infos sur : https://liege.demosphere.net/rv/12664
DTSTART:20260426T120000Z
DTEND:20260426T130000Z
GEO:+50.639869;+5.565978
LOCATION:Liège\, \nLa Bicoque \nPlace Saint Christophe 8 \n4000 Liège
SUMMARY:Repair Café Liège 
URL:https://liege.demosphere.net/rv/12664
END:VEVENT
END:VCALENDAR
