BEGIN:VCALENDAR
VERSION:2.0
PRODID:-//demosphere.net//NONSGML kigkonsult.se iCalcreator 2.22.1//
METHOD:REQUEST
X-WR-TIMEZONE:Europe/Paris
BEGIN:VEVENT
UID:https://liege.demosphere.net/rv/12666
DTSTAMP:20260430T170000Z
DESCRIPTION:plus d'infos sur : https://liege.demosphere.net/rv/12666
DTSTART:20260430T170000Z
DTEND:20260430T180000Z
GEO:+50.621095;+5.599779
LOCATION:Liège\, \nCCAPL \nCentre Culturel Arabe en Pays de Liège \nRue Hen
 ri Orban 1 \n4030 Grivegnée
SUMMARY:Palestine\, Liban et les nouvelles guerres israéliennes au Proche-O
 rient
URL:https://liege.demosphere.net/rv/12666
END:VEVENT
END:VCALENDAR
