BEGIN:VCALENDAR
VERSION:2.0
PRODID:-//demosphere.net//NONSGML kigkonsult.se iCalcreator 2.22.1//
METHOD:REQUEST
X-WR-TIMEZONE:Europe/Paris
BEGIN:VEVENT
UID:https://liege.demosphere.net/rv/12667
DTSTAMP:20260626T150000Z
DESCRIPTION:plus d'infos sur : https://liege.demosphere.net/rv/12667
DTSTART:20260626T150000Z
DTEND:20260626T160000Z
GEO:+50.651734;+5.564764
LOCATION:Liège\, \nGymNat \n74\, rue Xhovémont \n4000 Liège
SUMMARY:Bal des familles et micro ouvert
URL:https://liege.demosphere.net/rv/12667
END:VEVENT
END:VCALENDAR
