BEGIN:VCALENDAR
VERSION:2.0
PRODID:-//demosphere.net//NONSGML kigkonsult.se iCalcreator 2.22.1//
METHOD:REQUEST
X-WR-TIMEZONE:Europe/Paris
BEGIN:VEVENT
UID:https://liege.demosphere.net/rv/12668
DTSTAMP:20260627T120000Z
DESCRIPTION:plus d'infos sur : https://liege.demosphere.net/rv/12668
DTSTART:20260627T120000Z
DTEND:20260627T130000Z
GEO:+50.651734;+5.564764
LOCATION:Liège\, \nGymNat \n74\, rue Xhovémont \n4000 Liège
SUMMARY:Balade Philosophique : une balade en philo de l'environnement
URL:https://liege.demosphere.net/rv/12668
END:VEVENT
END:VCALENDAR
