BEGIN:VCALENDAR
VERSION:2.0
PRODID:-//demosphere.net//NONSGML kigkonsult.se iCalcreator 2.22.1//
METHOD:REQUEST
X-WR-TIMEZONE:Europe/Paris
BEGIN:VEVENT
UID:https://liege.demosphere.net/rv/12669
DTSTAMP:20260628T080000Z
DESCRIPTION:plus d'infos sur : https://liege.demosphere.net/rv/12669
DTSTART:20260628T080000Z
DTEND:20260628T090000Z
GEO:+50.651734;+5.564764
LOCATION:Liège\, \nGymNat \n74\, rue Xhovémont \n4000 Liège
SUMMARY:3 séances de découverte de l'hébertisme
URL:https://liege.demosphere.net/rv/12669
END:VEVENT
END:VCALENDAR
