BEGIN:VCALENDAR
VERSION:2.0
PRODID:-//demosphere.net//NONSGML kigkonsult.se iCalcreator 2.22.1//
METHOD:REQUEST
X-WR-TIMEZONE:Europe/Paris
BEGIN:VEVENT
UID:https://liege.demosphere.net/rv/12671
DTSTAMP:20260527T170000Z
DESCRIPTION:plus d'infos sur : https://liege.demosphere.net/rv/12671
DTSTART:20260527T170000Z
DTEND:20260527T180000Z
GEO:+50.646828;+5.573057
LOCATION:Liège\, \nBarricade \nRue Pierreuse 19-21 \n4000 Liège
SUMMARY:Budget alternatif - Débat avec Olivier Bonfond
URL:https://liege.demosphere.net/rv/12671
END:VEVENT
END:VCALENDAR
