BEGIN:VCALENDAR
VERSION:2.0
PRODID:-//demosphere.net//NONSGML kigkonsult.se iCalcreator 2.22.1//
METHOD:REQUEST
X-WR-TIMEZONE:Europe/Paris
BEGIN:VEVENT
UID:https://liege.demosphere.net/rv/12672
DTSTAMP:20260501T080000Z
DESCRIPTION:plus d'infos sur : https://liege.demosphere.net/rv/12672
DTSTART:20260501T080000Z
DTEND:20260501T090000Z
GEO:+50.640027;+5.571022
LOCATION:Liège\, \nPlace Saint-Paul \n4000 Liège
SUMMARY:Le cocktail des paradis fiscaux
URL:https://liege.demosphere.net/rv/12672
END:VEVENT
END:VCALENDAR
