BEGIN:VCALENDAR
VERSION:2.0
PRODID:-//demosphere.net//NONSGML kigkonsult.se iCalcreator 2.22.1//
METHOD:REQUEST
X-WR-TIMEZONE:Europe/Paris
BEGIN:VEVENT
UID:https://liege.demosphere.net/rv/12673
DTSTAMP:20260521T180000Z
DESCRIPTION:plus d'infos sur : https://liege.demosphere.net/rv/12673
DTSTART:20260521T180000Z
DTEND:20260521T190000Z
GEO:+50.593999;+5.495925
LOCATION:Seraing\, \nThéâtre de la Renaissance \nRue de la Libération 7 \n4
 100 Seraing
SUMMARY:Mou du ventre 
URL:https://liege.demosphere.net/rv/12673
END:VEVENT
END:VCALENDAR
