BEGIN:VCALENDAR
VERSION:2.0
PRODID:-//demosphere.net//NONSGML kigkonsult.se iCalcreator 2.22.1//
METHOD:REQUEST
X-WR-TIMEZONE:Europe/Paris
BEGIN:VEVENT
UID:https://liege.demosphere.net/rv/12675
DTSTAMP:20260530T133000Z
DESCRIPTION:plus d'infos sur : https://liege.demosphere.net/rv/12675
DTSTART:20260530T133000Z
DTEND:20260530T143000Z
LOCATION:\, \nRue Fush\, 3\, 4000 Liège
SUMMARY:Manger les riches? Rencontre avec Nora Bouazzouni et Christine Mahy
URL:https://liege.demosphere.net/rv/12675
END:VEVENT
END:VCALENDAR
