BEGIN:VCALENDAR
VERSION:2.0
PRODID:-//demosphere.net//NONSGML kigkonsult.se iCalcreator 2.22.1//
METHOD:REQUEST
X-WR-TIMEZONE:Europe/Paris
BEGIN:VEVENT
UID:https://liege.demosphere.net/rv/12676
DTSTAMP:20260522T100000Z
DESCRIPTION:plus d'infos sur : https://liege.demosphere.net/rv/12676
DTSTART:20260522T100000Z
DTEND:20260522T110000Z
GEO:+50.634772;+5.56243
LOCATION:Liège\, \nEducation-Environnement \nRue Fusch 3 \n4000 Liège
SUMMARY:Nouveaux masculinismes
URL:https://liege.demosphere.net/rv/12676
END:VEVENT
END:VCALENDAR
